2.438400000000
0.000000000000
0.000000000000
-2.438400000000
368213.384029442851
4859840.344207940620
