2.43840000
0.00000000
0.00000000
-2.43840000
327043.59180444
4819101.65355933
