2.438400000000
0.000000000000
0.000000000000
-2.438400000000
618576.131997516260
4915524.868484229800
