2.438400000000
0.000000000000
0.000000000000
-2.438400000000
588513.292810441110
4928879.713893438700
