2.438400000000
0.000000000000
0.000000000000
-2.438400000000
568102.359953408013
4984028.800618386827
