2.438400000000
0.000000000000
0.000000000000
-2.438400000000
479032.272531097347
4886492.908204509877
