2.438400000000
0.000000000000
0.000000000000
-2.438400000000
469069.244985752972
4900416.374411937781
