2.438400000000
0.000000000000
0.000000000000
-2.438400000000
419221.996754575695
4914723.125523096882
