2.438400000000
0.000000000000
0.000000000000
-2.438400000000
419387.944786158798
4928609.789684046991
