2.438400000000
0.000000000000
0.000000000000
-2.438400000000
380305.715040824318
4970757.079785276204
