2.438400
0
0
-2.438400
370090.162165
4984779.215934
