2.438400
0
0
-2.438400
268392.921634
4890341.428154
