2.438400000000
0.000000000000
0.000000000000
-2.438400000000
260516.421740147256
4946256.614489886910
