2.438400000000
0.000000000000
0.000000000000
-2.438400000000
697077.948979420936
4959106.516175805590
