2.438400
0
0
-2.438400
675974.156543
5014436.109227
