2.43840000
0.00000000
0.00000000
-2.43840000
605939.42446212
5081812.88259264
