2.43840000
0.00000000
0.00000000
-2.43840000
528576.84181411
4997538.57422047
