2.43840000
0.00000000
0.00000000
-2.43840000
557961.01745774
5025534.66629789
