2.43840000
0.00000000
0.00000000
-2.43840000
538127.91133892
5067011.55178665
