2.43840000
0.00000000
0.00000000
-2.43840000
538041.14172860
5080899.36850971
