2.43840000
0.00000000
0.00000000
-2.43840000
420918.83919955
5039536.71010689
