2.43840000
0.00000000
0.00000000
-2.43840000
460336.15361290
5080829.82110817
