2.43840000
0.00000000
0.00000000
-2.43840000
392499.76632947
5095521.61939875
