2.43840000
0.00000000
0.00000000
-2.43840000
302140.32085088
5000448.80356241
