2.43840000
0.00000000
0.00000000
-2.43840000
275407.70688576
5084758.46197390
