2.39999999999999810
0.00000000000000000
0.00000000000000000
-2.39999999999999990
272513.58000000002000000
3959693.39000000010000000
