2.39999999999996310
0.00000000000000000
0.00000000000000000
-2.39999999999997330
646090.15000000002000000
3944341.08999999990000000
