2.39999999999997550
0.00000000000000000
0.00000000000000000
-2.39999999999997330
611719.94999999995000000
3971611.21000000000000000
