2.39999999999999190
0.00000000000000000
0.00000000000000000
-2.39999999999999990
555811.93000000005000000
3887688.93999999990000000
