2.39999999999999810
0.00000000000000000
0.00000000000000000
-2.39999999999998660
442105.15999999997000000
3915382.50999999980000000
