2.39999999999996930
0.00000000000000000
0.00000000000000000
-2.39999999999997330
362135.09000000003000000
3888516.68999999990000000
