2.39999999999999590
0.00000000000000000
0.00000000000000000
-2.40000000000001320
385684.47999999998000000
3943682.66000000010000000
