2.39999999999997060
0.00000000000000000
0.00000000000000000
-2.39999999999997370
259744.67000000001000000
3904522.00999999980000000
