2.438400
0.000000
0.000000
-2.438400
330275.266933
4013876.223723
