2.43840000
0.00000000
0.00000000
-2.43840000
241266.88462113
4043837.09835653
