2.43840000
0.00000000
0.00000000
-2.43840000
230477.73173565
4058050.92811983
