2.438400
0.000000
0.000000
-2.438400
700886.417555
4028713.227675
