2.43840000
0.00000000
0.00000000
-2.43840000
555119.89098352
4054103.52132543
