2.43840000
0.00000000
0.00000000
-2.43840000
476809.84482582
4040000.32209246
