2.43840000
0.00000000
0.00000000
-2.43840000
476846.09443784
4053865.67979867
