2.43840000
0.00000000
0.00000000
-2.43840000
454521.92829107
4067820.73236967
