2.43840000
0.00000000
0.00000000
-2.43840000
273846.73808621
4001290.95764045
