2.43840000
0.00000000
0.00000000
-2.43840000
585663.86935120
3042815.76765879
