2.438400000000
0.000000000000
0.000000000000
-2.438400000000
609465.665041980570
3139974.183453808500
