2.438400000000
0.000000000000
0.000000000000
-2.438400000000
243472.442144147179
3225289.788392154966
