2.438400
0.000000
0.000000
-2.438400
608841.947369
3237009.254186
