2.43840000000000720
0.00000000000000000
0.00000000000000000
-2.43839999999999700
728764.55582600005000000
3308159.21324699980000000
