2.438400000000
0.000000000000
0.000000000000
-2.438400000000
319959.403413287890
3431703.743296272100
