2.43840000
0.00000000
0.00000000
-2.43840000
427436.90359385
3416576.02414619
