2.438400000000
0.000000000000
0.000000000000
-2.438400000000
367939.272731370933
3444859.379144656006
